BEGIN:VCALENDAR
VERSION:2.0
PRODID:-//ChamberMaster//Event Calendar 2.0//EN
METHOD:PUBLISH
X-PUBLISHED-TTL:P3D
REFRESH-INTERVAL:P3D
CALSCALE:GREGORIAN
BEGIN:VEVENT
DTSTART;VALUE=DATE:20100422
DTEND;VALUE=DATE:20100423
TRANSP:TRANSPARENT
X-MICROSOFT-CDO-ALLDAYEVENT:TRUE
SUMMARY:April 22\, 2010 - Social Networking Workshop
DESCRIPTION:
X-ALT-DESC;FMTTYPE=text/html:
LOCATION:
UID:e.749.1592
SEQUENCE:3
DTSTAMP:20260422T222944Z
URL:https://business.businessinsurrey.com/events/details/april-22-2010-social-networking-workshop-04-22-2010-1592
END:VEVENT

END:VCALENDAR
