BEGIN:VCALENDAR
VERSION:2.0
PRODID:-//ChamberMaster//Event Calendar 2.0//EN
METHOD:PUBLISH
X-PUBLISHED-TTL:P3D
REFRESH-INTERVAL:P3D
CALSCALE:GREGORIAN
BEGIN:VEVENT
DTSTART;VALUE=DATE:20100415
DTEND;VALUE=DATE:20100416
TRANSP:TRANSPARENT
X-MICROSOFT-CDO-ALLDAYEVENT:TRUE
SUMMARY:April 15\, 2010 - Marketing to the USA Workshop
DESCRIPTION:
X-ALT-DESC;FMTTYPE=text/html:
LOCATION:
UID:e.749.1597
SEQUENCE:3
DTSTAMP:20260422T223359Z
URL:https://business.businessinsurrey.com/events/details/april-15-2010-marketing-to-the-usa-workshop-04-15-2010-1597
END:VEVENT

END:VCALENDAR
