BEGIN:VCALENDAR
VERSION:2.0
PRODID:-//ChamberMaster//Event Calendar 2.0//EN
METHOD:PUBLISH
X-PUBLISHED-TTL:P3D
REFRESH-INTERVAL:P3D
CALSCALE:GREGORIAN
BEGIN:VEVENT
DTSTART:20160414T183000Z
DTEND:20160414T203000Z
X-MICROSOFT-CDO-ALLDAYEVENT:FALSE
SUMMARY:April 14\, 2016 - Lunch with Assistant Commissioner Bill Fordy\, Surrey RCMP
DESCRIPTION:KEYNOTE SPEAKER: ASSISTANT COMMISSIONER BILL FORDY\n\nOfficer in Charge\, Surrey RCMP\n\n\n\nAssistant Commissioner Fordy will speak to:\n\n\n\nHear an update on crime in Surrey\n\nHis plans for 2016\n\nThe relationship between the RCMP and Surrey's business community\n\n\n\nSPECIAL GUEST:\n\nCRAIG MACFARLANE\, CITY SOLICITOR\, CITY OF SURREY: UPDATE ON INTEGRATED COURT SERVICES MODEL
X-ALT-DESC;FMTTYPE=text/html:KEYNOTE SPEAKER: ASSISTANT COMMISSIONER BILL FORDY<br />\nOfficer in Charge\, Surrey RCMP<br />\n<br />\nAssistant Commissioner Fordy will speak to:<br />\n<br />\nHear an update on crime in Surrey<br />\nHis plans for 2016<br />\nThe relationship between the RCMP and Surrey&#39\;s business community<br />\n<br />\nSPECIAL GUEST:<br />\nCRAIG MACFARLANE\, CITY SOLICITOR\, CITY OF SURREY: UPDATE ON INTEGRATED COURT SERVICES MODEL
LOCATION:Eaglequest Golf Course 7778 152 Street\, Surrey
UID:e.749.3743
SEQUENCE:3
DTSTAMP:20260424T052909Z
URL:https://business.businessinsurrey.com/events/details/april-14-2016-lunch-with-assistant-commissioner-bill-fordy-surrey-rcmp-04-14-2016-3743
END:VEVENT

END:VCALENDAR
