BEGIN:VCALENDAR
VERSION:2.0
PRODID:-//ChamberMaster//Event Calendar 2.0//EN
METHOD:PUBLISH
X-PUBLISHED-TTL:P3D
REFRESH-INTERVAL:P3D
CALSCALE:GREGORIAN
BEGIN:VEVENT
DTSTART:20150425T170000Z
DTEND:20150425T220000Z
X-MICROSOFT-CDO-ALLDAYEVENT:FALSE
SUMMARY:Apply for an Registered Disability Savings Plan (RDSP)
DESCRIPTION:Have you always wanted to apply for a Registered Disability Savings Plan (RDSP)\, but thought it was too difficult? Meet an expert that will help you with the step by step. \n\nLearn how to take advantage of the federal government's grants and bonds and save for the long-term financial security of a loved one living with a disability.  \n\nAn RDSP is a deferred tax saving vehicle for or a person with disabilities who is: \n\n   Eligible for the Disability Tax Credit\n\n   Residents of Canada\n\n   Less than 60 years of age\n\n   Have a valid Social Insurance Number\n\nFinally get the help you need. All it takes is 30 minutes of your time on April 25\, 2015. To participate\, go on line at http://www.semi-house-society.com/futures-event.html.
X-ALT-DESC;FMTTYPE=text/html:<p class="MsoNormal" style="line-height:150%\;mso-pagination:none"><span lang="EN-US" style="font-size:9.0pt\;line-height:150%\;font-family:&quot\;Arial&quot\;\,&quot\;sans-serif&quot\;\;\ncolor:windowtext\;mso-ligatures:none\;mso-ansi-language:EN-US">Have you always wanted to apply for a Registered Disability Savings Plan (RDSP)\, but thought it was too difficult? </span><span lang="EN-US" style="font-size:11.0pt\;line-height:150%\;\nfont-family:&quot\;Britannic Bold&quot\;\,&quot\;sans-serif&quot\;\;color:windowtext\;mso-ligatures:none\;\nmso-ansi-language:EN-US">Meet an expert </span><span lang="EN-US" style="font-size:9.0pt\;line-height:150%\;font-family:&quot\;Arial&quot\;\,&quot\;sans-serif&quot\;\;\ncolor:windowtext\;mso-ligatures:none\;mso-ansi-language:EN-US">that will help you with the&nbsp\;</span><span lang="EN-US" style="font-size:11.0pt\;line-height:150%\;\nfont-family:&quot\;Britannic Bold&quot\;\,&quot\;sans-serif&quot\;\;color:windowtext\;mso-ligatures:none\;\nmso-ansi-language:EN-US">step by step</span><span lang="EN-US" style="font-size:9.0pt\;line-height:150%\;font-family:&quot\;Arial&quot\;\,&quot\;sans-serif&quot\;\;\ncolor:windowtext\;mso-ligatures:none\;mso-ansi-language:EN-US">.&nbsp\;<o:p></o:p></span></p>\n\n<p class="MsoNormal" style="line-height:150%\;mso-pagination:none"><span lang="EN-US" style="font-size:9.0pt\;line-height:150%\;font-family:&quot\;Arial&quot\;\,&quot\;sans-serif&quot\;\;\ncolor:windowtext\;mso-ligatures:none\;mso-ansi-language:EN-US">Learn how to take advantage of the federal </span><span lang="EN-US" style="font-size:11.0pt\;\nline-height:150%\;font-family:&quot\;Britannic Bold&quot\;\,&quot\;sans-serif&quot\;\;color:windowtext\;\nmso-ligatures:none\;mso-ansi-language:EN-US">government&rsquo\;s grants and bonds</span><span lang="EN-US" style="font-size:9.0pt\;line-height:150%\;font-family:&quot\;Arial&quot\;\,&quot\;sans-serif&quot\;\;\ncolor:windowtext\;mso-ligatures:none\;mso-ansi-language:EN-US"> and save for the long-term </span><span lang="EN-US" style="font-size:11.0pt\;line-height:150%\;font-family:&quot\;Britannic Bold&quot\;\,&quot\;sans-serif&quot\;\;\ncolor:windowtext\;mso-ligatures:none\;mso-ansi-language:EN-US">financial security </span><span lang="EN-US" style="font-size:\n9.0pt\;line-height:150%\;font-family:&quot\;Arial&quot\;\,&quot\;sans-serif&quot\;\;color:windowtext\;\nmso-ligatures:none\;mso-ansi-language:EN-US">of a loved one living with a disability. &nbsp\;<o:p></o:p></span></p>\n\n<p class="MsoNormal" style="line-height:150%\;mso-pagination:none"><span lang="EN-US" style="font-size:11.0pt\;line-height:150%\;font-family:&quot\;Britannic Bold&quot\;\,&quot\;sans-serif&quot\;\;\ncolor:windowtext\;mso-ligatures:none\;mso-ansi-language:EN-US">An RDSP </span><span lang="EN-US" style="font-size:9.0pt\;line-height:150%\;\nfont-family:&quot\;Arial&quot\;\,&quot\;sans-serif&quot\;\;color:windowtext\;mso-ligatures:none\;\nmso-ansi-language:EN-US">is a deferred tax saving vehicle for or a person with disabilities who is: <o:p></o:p></span></p>\n\n<p class="MsoNormal" style="margin-bottom:0in\;margin-bottom:.0001pt\;line-height:\n150%\;mso-pagination:none\;mso-level-font-family:Symbol\;mso-level-indent:0pt\;\nmso-level-size:10pt"><span lang="X-NONE" style="font-family:Symbol\;color:windowtext\;\nmso-ansi-language:X-NONE">&uml\;</span><span style="color:windowtext">&nbsp\;</span><span lang="EN-US" style="font-size:9.0pt\;line-height:150%\;font-family:\n&quot\;Arial&quot\;\,&quot\;sans-serif&quot\;\;color:windowtext\;mso-ligatures:none\;mso-ansi-language:\nEN-US"> Eligible for the Disability Tax Credit<o:p></o:p></span></p>\n\n<p class="MsoNormal" style="margin-bottom:0in\;margin-bottom:.0001pt\;line-height:\n150%\;mso-pagination:none\;mso-level-font-family:Symbol\;mso-level-indent:0pt\;\nmso-level-size:10pt"><span lang="X-NONE" style="font-family:Symbol\;color:windowtext\;\nmso-ansi-language:X-NONE">&uml\;</span><span style="color:windowtext">&nbsp\;</span><span lang="EN-US" style="font-size:9.0pt\;line-height:150%\;font-family:\n&quot\;Arial&quot\;\,&quot\;sans-serif&quot\;\;color:windowtext\;mso-ligatures:none\;mso-ansi-language:\nEN-US"> Residents of Canada<o:p></o:p></span></p>\n\n<p class="MsoNormal" style="margin-bottom:0in\;margin-bottom:.0001pt\;line-height:\n150%\;mso-pagination:none\;mso-level-font-family:Symbol\;mso-level-indent:0pt\;\nmso-level-size:10pt"><span lang="X-NONE" style="font-family:Symbol\;color:windowtext\;\nmso-ansi-language:X-NONE">&uml\;</span><span style="color:windowtext">&nbsp\;</span><span lang="EN-US" style="font-size:9.0pt\;line-height:150%\;font-family:\n&quot\;Arial&quot\;\,&quot\;sans-serif&quot\;\;color:windowtext\;mso-ligatures:none\;mso-ansi-language:\nEN-US"> Less than 60 years of age<o:p></o:p></span></p>\n\n<p class="MsoNormal" style="margin-bottom:0in\;margin-bottom:.0001pt\;line-height:\n150%\;mso-pagination:none\;mso-level-font-family:Symbol\;mso-level-indent:0pt\;\nmso-level-size:10pt"><span lang="X-NONE" style="font-family:Symbol\;color:windowtext\;\nmso-ansi-language:X-NONE">&uml\;</span><span style="color:windowtext">&nbsp\;</span><span lang="EN-US" style="font-size:9.0pt\;line-height:150%\;font-family:\n&quot\;Arial&quot\;\,&quot\;sans-serif&quot\;\;color:windowtext\;mso-ligatures:none\;mso-ansi-language:\nEN-US"> Have a valid Social Insurance Number<o:p></o:p></span></p>\n\n<p class="MsoNormal" style="line-height:150%\;mso-pagination:none"><span lang="EN-US" style="font-size:9.0pt\;line-height:150%\;font-family:&quot\;Arial&quot\;\,&quot\;sans-serif&quot\;\;\ncolor:windowtext\;mso-ligatures:none\;mso-ansi-language:EN-US">Finally </span><span lang="EN-US" style="font-size:11.0pt\;line-height:150%\;font-family:&quot\;Britannic Bold&quot\;\,&quot\;sans-serif&quot\;\;\ncolor:windowtext\;mso-ligatures:none\;mso-ansi-language:EN-US">get the help you need</span><span lang="EN-US" style="font-size:\n9.0pt\;line-height:150%\;font-family:&quot\;Arial&quot\;\,&quot\;sans-serif&quot\;\;color:windowtext\;\nmso-ligatures:none\;mso-ansi-language:EN-US">. All it takes is 30 minutes of your time on April 25\, 2015. To participate\, go on line at http://www.semi-house-society.com/futures-event.html.<o:p></o:p></span></p>\n
LOCATION:Semiahmoo House Society 15306 24th Avenue Surrey\, BC V4A 2J1
UID:e.749.3559
SEQUENCE:3
DTSTAMP:20260423T104507Z
URL:https://business.businessinsurrey.com/events/details/apply-for-an-registered-disability-savings-plan-rdsp-04-25-2015-3559
END:VEVENT

END:VCALENDAR
