BEGIN:VCALENDAR
VERSION:2.0
PRODID:-//ChamberMaster//Event Calendar 2.0//EN
METHOD:PUBLISH
X-PUBLISHED-TTL:P3D
REFRESH-INTERVAL:P3D
CALSCALE:GREGORIAN
BEGIN:VEVENT
DTSTART:20150926T203000Z
DTEND:20150926T223000Z
X-MICROSOFT-CDO-ALLDAYEVENT:FALSE
SUMMARY:All Candidates Meeting 2015
DESCRIPTION:The Burns Bog Conservation Society and the Delta Residents Association invite you to meet your federal candidates at the North Delta Evangelical Free Church on SATURDAY\, SEPTEMBER 26! From 1:30 PM to 3:30 PM\, come by 11130-84 Avenue in Delta\, BC to question your candidates about their policies\, promises\, and political plans in the lead-up to October 19's federal election! No fees or admissions required\; open to all ages! For more information or answers to your questions\, email delta.residents@gmail.com
X-ALT-DESC;FMTTYPE=text/html:The Burns Bog Conservation Society and the Delta Residents Association invite you to meet your federal candidates at the North Delta Evangelical Free Church on SATURDAY\, SEPTEMBER 26! From 1:30 PM to 3:30 PM\, come by 11130-84 Avenue in Delta\, BC to question your candidates about their policies\, promises\, and political plans in the lead-up to October 19&#39\;s federal election! No fees or admissions required\; open to all ages! For more information or answers to your questions\, email delta.residents@gmail.com
LOCATION:North Delta Evangelical Free Church 11130-84 Avenue\, Delta\, BC
UID:e.749.3667
SEQUENCE:3
DTSTAMP:20260423T184758Z
URL:https://business.businessinsurrey.com/events/details/all-candidates-meeting-2015-09-26-2015-3667
END:VEVENT

END:VCALENDAR
