BEGIN:VCALENDAR
VERSION:2.0
PRODID:-//ChamberMaster//Event Calendar 2.0//EN
METHOD:PUBLISH
X-PUBLISHED-TTL:P3D
REFRESH-INTERVAL:P3D
CALSCALE:GREGORIAN
BEGIN:VEVENT
DTSTART:20101217T030000Z
DTEND:20110102T230000Z
X-MICROSOFT-CDO-ALLDAYEVENT:FALSE
SUMMARY:Alice in Wonderland - the panto
DESCRIPTION:Fabulous Family Fun!  Ellie King and the Royal Canadian Theatre Co. bring this classic story to life complete with Jabberwock\, Red Queen\, the White Rabbit and of course Alice herself along with many other of Wonderland's denizens played by your favourite pantomime starts.\n\nLow prices\, great group deals make tickets a fine and unusual gift idea for friends\, family\, clients and business associates.
X-ALT-DESC;FMTTYPE=text/html:Fabulous Family Fun!  Ellie King and the Royal Canadian Theatre Co. bring this classic story to life complete with Jabberwock\, Red Queen\, the White Rabbit and of course Alice herself along with many other of Wonderland's denizens played by your favourite pantomime starts.\n<br>Low prices\, great group deals make tickets a fine and unusual gift idea for friends\, family\, clients and business associates.
LOCATION:Surrey Arts Centre\, Bear Creek Park\, Surrey.
UID:e.749.1715
SEQUENCE:3
DTSTAMP:20260422T094524Z
URL:https://business.businessinsurrey.com/events/details/alice-in-wonderland-the-panto-12-16-2010-1715
END:VEVENT

END:VCALENDAR
