BEGIN:VCALENDAR
VERSION:2.0
PRODID:-//ChamberMaster//Event Calendar 2.0//EN
METHOD:PUBLISH
X-PUBLISHED-TTL:P3D
REFRESH-INTERVAL:P3D
CALSCALE:GREGORIAN
BEGIN:VEVENT
DTSTART:20101114T020000Z
DTEND:20101114T060000Z
X-MICROSOFT-CDO-ALLDAYEVENT:FALSE
SUMMARY:Affair to Remember
DESCRIPTION:An elegant evening with proceeds going to the Surrey Hospice Society\n\nChampagne Reception 6-7pm\n\nDinner buffet served at 7pm\n\n \n\nEnjoy an evening of dinner & dancing with ABBA AGAIN and MC Bob Saye from 93.7 JR FM.
X-ALT-DESC;FMTTYPE=text/html:An elegant evening with proceeds going to the Surrey Hospice Society<br />\nChampagne Reception 6-7pm<br />\nDinner buffet served at 7pm<br />\n&nbsp\;<br />\nEnjoy an evening of dinner &amp\; dancing with ABBA AGAIN and MC Bob Saye from 93.7 JR FM.
LOCATION:Eaglequest Coyote Creek Golf & Country Club (7778 152nd Street\, Surrey)
UID:e.749.1694
SEQUENCE:3
DTSTAMP:20260422T120534Z
URL:https://business.businessinsurrey.com/events/details/affair-to-remember-11-13-2010-1694
END:VEVENT

END:VCALENDAR
