BEGIN:VCALENDAR
VERSION:2.0
PRODID:-//ChamberMaster//Event Calendar 2.0//EN
METHOD:PUBLISH
X-PUBLISHED-TTL:P3D
REFRESH-INTERVAL:P3D
CALSCALE:GREGORIAN
BEGIN:VEVENT
DTSTART:20150717T180000Z
DTEND:20150717T200000Z
X-MICROSOFT-CDO-ALLDAYEVENT:FALSE
SUMMARY:ABC Recycling Food Drive Challenge Barbecue
DESCRIPTION:
X-ALT-DESC;FMTTYPE=text/html:
LOCATION:ABC Recycling 19355 54th Avenue
UID:e.749.3610
SEQUENCE:3
DTSTAMP:20260423T171021Z
URL:https://business.businessinsurrey.com/events/details/abc-recycling-food-drive-challenge-barbecue-07-17-2015-3610
END:VEVENT

END:VCALENDAR
