BEGIN:VCALENDAR
VERSION:2.0
PRODID:-//ChamberMaster//Event Calendar 2.0//EN
METHOD:PUBLISH
X-PUBLISHED-TTL:P3D
REFRESH-INTERVAL:P3D
CALSCALE:GREGORIAN
BEGIN:VEVENT
DTSTART:20120526T170000Z
DTEND:20120526T230000Z
X-MICROSOFT-CDO-ALLDAYEVENT:FALSE
SUMMARY:Abbotsford Spring Fling Wellness Expo
DESCRIPTION:The Wellness Shoppe announces the upcoming 1st Annual Spring Fling Wellness Expo! On Saturday May 26\, 2012 from 10 am to 4 pm in Abbotsford\, BC at the Cascade Culinary Arts School on 35190 Delair Road. Thirty five exhibitors booths with a wide spectrum of products and services. \n\n	Free educational seminars throughout the day. Topics include: A New Look at Healthy Options\, Prosperity & Wellness for Life\, How to Build Wealth with Real Estate\, Managing the Financial Risks in Life\, Fundraising Opportunities for Non-Profits\, Social Media   Maximizing Profits while Minimizing Risk\, Professional Life Coaches\, Small Business Coaches and Travel Speakers.\n\n	Entertainment by Gordy Van\, an amazing entertainer with over 30 years experience. Singer\, Comedian and Impressionist. Gordy is a multi-faceted entertainer performing for all sorts of audiences since 1969. An actor\, showman\, musician\, songwriter\, comedian\, and MC.\n\n	Performing at special events\, fairs\, festivals\, Corporate functions\, Pubs\, Cabarets with the likes of Bobby Vee\, Buddy Knox\, The Platters\, Powder Blues\, B. J. Thomas and the " Noteables Show band". A great front man and all-around entertainer.\n\n	Free food\, beverages & door prizes and silent auction. Fun for the whole family! Two Fashion Shows at 11:00 am and 1:00 pm featuring beautiful fashions by Sears Canada\, Seven Oaks Mall\, Abbotsford  BC\, fine optic wear\, as well as entertainment for all ages. Admission is only $2.00.  In addition to the entertainment\, food and seminars\, the silent auction will benefit the Cascade Culinary Arts School.
X-ALT-DESC;FMTTYPE=text/html:<p class="MsoNormal" style="margin: 12pt 0cm">\n	<span style="color: black\; mso-themecolor: text1"><font face="Times New Roman"><font size="3">The Wellness Shoppe announces the upcoming </font><font size="3">1</font><sup><font size="2">st</font></sup><font size="3"> Annual Spring Fling Wellness Expo! On Saturday May 26\, 2012 from 10 am to 4 pm in Abbotsford\, BC at the Cascade Culinary Arts School on 35190 Delair Road. Thirty five exhibitors booths with a wide spectrum of products and services. <o:p></o:p></font></font></span></p>\n<p class="MsoNormal" style="margin: 12pt 0cm">\n	<span style="color: black\; mso-themecolor: text1"><font size="3"><font face="Times New Roman">Free educational seminars throughout the day. Topics include: A New Look at Healthy Options\, Prosperity &amp\; Wellness for Life\, How to Build Wealth with Real Estate\, Managing the Financial Risks in Life\, Fundraising Opportunities for Non-Profits\, Social Media &ndash\; Maximizing Profits while Minimizing Risk\, Professional Life Coaches\, Small Business Coaches and Travel Speakers.<o:p></o:p></font></font></span></p>\n<p class="MsoNormal" style="margin: 0cm 0cm 0pt">\n	<font size="3"><font face="Times New Roman"><span style="color: black\; mso-themecolor: text1">Entertainment by <b style="mso-bidi-font-weight: normal">Gordy Van\, an amazing entertainer with over 30 years experience.</b> Singer\, Comedian and Impressionist. </span><font color="#000000">Gordy is a multi-faceted entertainer performing for all sorts of audiences since 1969. An actor\, showman\, musician\, songwriter\, comedian\, and MC.</font></font></font></p>\n<p class="MsoNormal" style="margin: 0cm 0cm 0pt">\n	<font color="#000000" face="Times New Roman" size="3">Performing at special events\, fairs\, festivals\, Corporate functions\, Pubs\, Cabarets with the likes of Bobby Vee\, Buddy Knox\, The Platters\, Powder Blues\, B. J. Thomas and the &ldquo\; Noteables Show band&rdquo\;. A great front man and all-around entertainer.</font></p>\n<p class="MsoNormal" style="margin: 12pt 0cm">\n	<span style="color: black\; mso-themecolor: text1"><font size="3"><font face="Times New Roman">Free food\, beverages &amp\; door prizes and silent auction. Fun for the whole family! Two Fashion Shows at 11:00 am and 1:00 pm featuring beautiful fashions by Sears Canada\, Seven Oaks Mall\, Abbotsford <span style="mso-spacerun: yes">&nbsp\;</span>BC\, fine optic wear\, as well as entertainment for all ages. Admission is only $2.00.<span style="mso-spacerun: yes">&nbsp\; </span>In addition to the entertainment\, food and seminars\, the silent auction will benefit the Cascade Culinary Arts School.<o:p></o:p></font></font></span></p>\n
LOCATION:Cascade Culinary Arts School on 35190 Delair Road\, Abbotsford
UID:e.749.2046
SEQUENCE:3
DTSTAMP:20260421T112746Z
URL:https://business.businessinsurrey.com/events/details/abbotsford-spring-fling-wellness-expo-05-26-2012-2046
END:VEVENT

END:VCALENDAR
