BEGIN:VCALENDAR
VERSION:2.0
PRODID:-//ChamberMaster//Event Calendar 2.0//EN
METHOD:PUBLISH
X-PUBLISHED-TTL:P3D
REFRESH-INTERVAL:P3D
CALSCALE:GREGORIAN
BEGIN:VEVENT
DTSTART:20160605T170000Z
DTEND:20160606T000000Z
X-MICROSOFT-CDO-ALLDAYEVENT:FALSE
SUMMARY:8th Annual Philippine Independence Day Celebrations in Surrey
DESCRIPTION:This Family Event features: ~Santacruzan - A parade of Queens and Flowers (a Philippines tradition) ~Local Artists\, classic Love Songs\, Live Band\, Cultural Dances\, Games for Kids ~Food Concessions ~New/used pencil/pen donations welcome for the Black Pencil Vancouver Project for the Indigenous Kids in the Philippines ~Everyone is welcome
X-ALT-DESC;FMTTYPE=text/html:This Family Event features: ~Santacruzan - A parade of Queens and Flowers (a Philippines tradition) ~Local Artists\, classic Love Songs\, Live Band\, Cultural Dances\, Games for Kids ~Food Concessions ~New/used pencil/pen donations welcome for the Black Pencil Vancouver Project for the Indigenous Kids in the Philippines ~Everyone is welcome
LOCATION:Bridgeview Park Community Centre 11475 126A St Surrey\, B.C.
UID:e.749.4948
SEQUENCE:3
DTSTAMP:20260424T083613Z
URL:https://business.businessinsurrey.com/events/details/8th-annual-philippine-independence-day-celebrations-in-surrey-06-05-2016-4948
END:VEVENT

END:VCALENDAR
