BEGIN:VCALENDAR
VERSION:2.0
PRODID:-//ChamberMaster//Event Calendar 2.0//EN
METHOD:PUBLISH
X-PUBLISHED-TTL:P3D
REFRESH-INTERVAL:P3D
CALSCALE:GREGORIAN
BEGIN:VEVENT
DTSTART:20160806T180000Z
DTEND:20160806T210000Z
X-MICROSOFT-CDO-ALLDAYEVENT:FALSE
SUMMARY:7th Annual WR Princess Party
DESCRIPTION:Watch your child's face light up as they visit a land of make-believe including a play date and live performance with Queen Elsa and Anna and other beautiful\, Fairy-tale princesses\, have fun at the many activities and crafts\, face painting\, cakewalk\, magic castle\, explore a fire truck\, enjoy hot dogs and much more. 100% money raised is donated for the All Abilities Park
X-ALT-DESC;FMTTYPE=text/html:Watch your child&#39\;s face light up as they visit a land of make-believe including a play date and live performance with Queen Elsa and Anna and other beautiful\, Fairy-tale princesses\, have fun at the many activities and crafts\, face painting\, cakewalk\, magic castle\, explore a fire truck\, enjoy hot dogs and much more. 100% money raised is donated for the All Abilities Park
LOCATION:Centennial Arena Hall 14600 North Bluff Road White Rock\, BC
UID:e.749.4952
SEQUENCE:3
DTSTAMP:20260424T052848Z
URL:https://business.businessinsurrey.com/events/details/7th-annual-wr-princess-party-08-06-2016-4952
END:VEVENT

END:VCALENDAR
