BEGIN:VCALENDAR
VERSION:2.0
PRODID:-//ChamberMaster//Event Calendar 2.0//EN
METHOD:PUBLISH
X-PUBLISHED-TTL:P3D
REFRESH-INTERVAL:P3D
CALSCALE:GREGORIAN
BEGIN:VEVENT
DTSTART;VALUE=DATE:20120612
DTEND;VALUE=DATE:20120613
TRANSP:TRANSPARENT
X-MICROSOFT-CDO-ALLDAYEVENT:TRUE
SUMMARY:7th Annual Round of Wishes Golf Tournament
DESCRIPTION:The 7th Annual Round of Wishes Golf Tournament will take place on Tuesday\, June 12th at the prestigious Morgan Creek Golf Course. The Children's Wish Foundation invites you to share in this magical day as we tee off to Create the Magic of a Wish for children living with life-threatening illnesses.\n\n	There are still spots available\, so dust off your clubs and register now as an individual\, twosome or foursome! In addition to great day of golf and networking opportunities\, participants will enjoy: a lovely tee gift\, lunch\, tasty treats\, cocktail reception\, complimentary wine at dinner\, a delicious banquet dinner and access to an exciting live and silent auction\, raffle\, great prizes and the opportunity to grant a wish! Registration is available online at  www.roundofwishes.ca. \n\n	Rate are:
X-ALT-DESC;FMTTYPE=text/html:<div>\n	The 7th Annual Round of Wishes Golf Tournament will take place on Tuesday\, June 12th at the prestigious Morgan Creek Golf Course. The Children&rsquo\;s Wish Foundation invites you to share in this magical day as we tee off to Create the Magic of a Wish for children living with life-threatening illnesses.</div>\n<div>\n	There are still spots available\, so dust off your clubs and register now as an individual\, twosome or foursome! In addition to great day of golf and networking opportunities\, participants will enjoy: a lovely tee gift\, lunch\, tasty treats\, cocktail reception\, complimentary wine at dinner\, a delicious banquet dinner and access to an exciting live and silent auction\, raffle\, great prizes and the opportunity to grant a wish! Registration is available online at &nbsp\;www.roundofwishes.ca.&nbsp\;</div>\n<div style="text-align: left\;">\n	<font color="#000000" face="Geneva\, Arial\, Helvetica\, sans-serif"><span style="font-size: 11px\; line-height: 13px\;">Rate are:</span></font><br />\n	&nbsp\;</div>\n
LOCATION:Morgan Creek Golf Course 3500 Morgan Creek Way Surrey\, BC V3S 0J7
UID:e.749.2072
SEQUENCE:3
DTSTAMP:20260421T083432Z
URL:https://business.businessinsurrey.com/events/details/7th-annual-round-of-wishes-golf-tournament-06-12-2012-2072
END:VEVENT

END:VCALENDAR
