BEGIN:VCALENDAR
VERSION:2.0
PRODID:-//ChamberMaster//Event Calendar 2.0//EN
METHOD:PUBLISH
X-PUBLISHED-TTL:P3D
REFRESH-INTERVAL:P3D
CALSCALE:GREGORIAN
BEGIN:VEVENT
DTSTART:20161014T000000Z
DTEND:20161014T040000Z
X-MICROSOFT-CDO-ALLDAYEVENT:FALSE
SUMMARY:4th Annual BLA\, Business Leadership Awards\, presented by Seeds\, Self Employment
DESCRIPTION:SEEDS BLA 2016 The 4th annual SEEDS Business Leadership Awards recognizes successful local entrepreneurs who fit into our 7 focuses\, while raising funds to sponsor more aspiring entrepreneurs into our Self Employment Program. Our 7 focuses include marginalized groups in society such as Youth\, Seniors\, First Nations\, Underemployed\, Immigrants\, Differently-Abled\, and Women. 13thhttp://www.eventbrite.ca/e/4th-annual-seeds-business-leadership-awards-tickets-27059573914?aff=Chris
X-ALT-DESC;FMTTYPE=text/html:SEEDS BLA 2016 The 4th annual SEEDS Business Leadership Awards recognizes successful local entrepreneurs who fit into our 7 focuses\, while raising funds to sponsor more aspiring entrepreneurs into our Self Employment Program. Our 7 focuses include marginalized groups in society such as Youth\, Seniors\, First Nations\, Underemployed\, Immigrants\, Differently-Abled\, and Women. 13thhttp://www.eventbrite.ca/e/4th-annual-seeds-business-leadership-awards-tickets-27059573914?aff=Chris
LOCATION:Surrey City Hall
UID:e.749.5135
SEQUENCE:3
DTSTAMP:20260424T035823Z
URL:https://business.businessinsurrey.com/events/details/4th-annual-bla-business-leadership-awards-presented-by-seeds-self-employment-10-13-2016-5135
END:VEVENT

END:VCALENDAR
