BEGIN:VCALENDAR
VERSION:2.0
PRODID:-//ChamberMaster//Event Calendar 2.0//EN
METHOD:PUBLISH
X-PUBLISHED-TTL:P3D
REFRESH-INTERVAL:P3D
CALSCALE:GREGORIAN
BEGIN:VEVENT
DTSTART:20120526T180000Z
DTEND:20120527T000000Z
X-MICROSOFT-CDO-ALLDAYEVENT:FALSE
SUMMARY:38th Annual Alexandra Festival
DESCRIPTION:Experience a fabulous day of music\, dance and family fun Saturday May 26th\, 11 a.m. to 5 p.m. at the 38th Annual Alexandra Festival in Crescent Beach. Explore the Family Fun Zones with your little ones\, check out the cultural fun zone and browse artisans and crafters booths for unique gifts.  There's non-stop entertainment on the outdoor stage\, and don't worry about parking -  take our free shuttle from the Crescent Beach Legion parking lot on 128th beginning at 11 a.m.  Come back in the evening for a fun musical evening in Alexandra Hall at 7 p.m. There's something for everyone at this family event by the beach. Go to www.alexhouse.net or call 604-535-0015 for more information.
X-ALT-DESC;FMTTYPE=text/html:<blockquote style="color: rgb(0\, 0\, 0)\; font-family: Helvetica\; font-size: medium\; " type="cite">\n	<div class="gmail_extra">\n		<div class="gmail_quote">\n			<blockquote class="gmail_quote" style="margin-top: 0pt\; margin-right: 0pt\; margin-bottom: 0pt\; margin-left: 0.8ex\; border-left-width: 1px\; border-left-style: solid\; border-left-color: rgb(204\, 204\, 204)\; padding-left: 1ex\; ">\n				<div style="word-wrap: break-word\; ">\n					<div>\n						<div>\n							<div style="text-align: left\; ">\n								<div style="text-align: left\; display: inline !important\; ">\n									<div style="text-align: left\; display: inline !important\; ">\n										<p class="MsoNormal" style="line-height: 18px\; ">\n											<span style="border-collapse: separate\; font-family: Helvetica\; font-style: normal\; font-variant: normal\; letter-spacing: normal\; line-height: normal\; text-indent: 0px\; text-transform: none\; white-space: normal\; word-spacing: 0px\; "><span style="border-collapse: separate\; font-family: Helvetica\; font-style: normal\; font-variant: normal\; letter-spacing: normal\; line-height: normal\; text-indent: 0px\; text-transform: none\; white-space: normal\; word-spacing: 0px\; "><span style="border-collapse: separate\; font-family: Helvetica\; font-style: normal\; font-variant: normal\; letter-spacing: normal\; line-height: normal\; text-indent: 0px\; text-transform: none\; white-space: normal\; word-spacing: 0px\; "><span style="border-collapse: separate\; font-family: Helvetica\; font-style: normal\; font-variant: normal\; letter-spacing: normal\; line-height: normal\; text-indent: 0px\; text-transform: none\; white-space: normal\; word-spacing: 0px\; "><span style="border-collapse: separate\; font-family: Helvetica\; font-style: normal\; font-variant: normal\; letter-spacing: normal\; line-height: normal\; text-indent: 0px\; text-transform: none\; white-space: normal\; word-spacing: 0px\; "><span style="border-collapse: separate\; font-family: Helvetica\; font-variant: normal\; letter-spacing: normal\; line-height: normal\; text-indent: 0px\; text-transform: none\; white-space: normal\; word-spacing: 0px\; "><span style="border-collapse: separate\; font-family: Helvetica\; font-variant: normal\; letter-spacing: normal\; line-height: normal\; text-indent: 0px\; text-transform: none\; white-space: normal\; word-spacing: 0px\; "><span style="text-indent: 0px\; "><span style="text-indent: 0px\; "><span style="text-indent: 0px\; "><span style="text-indent: 0px\; "><span style="text-indent: 0px\; "><span style="text-indent: 0px\; "><span style="text-indent: 0px\; "><span style="text-indent: 0px\; "><span style="text-indent: 0px\; "><span style="text-indent: 0px\; "><span style="text-indent: 0px\; "><span style="text-indent: 0px\; "><span style="font-weight: normal\; border-collapse: separate\; font-family: Helvetica\; font-variant: normal\; letter-spacing: normal\; line-height: normal\; text-indent: 0px\; text-transform: none\; white-space: normal\; word-spacing: 0px\; font-size: medium\; "><span style="border-collapse: separate\; font-family: Helvetica\; font-variant: normal\; letter-spacing: normal\; line-height: normal\; text-indent: 0px\; text-transform: none\; white-space: normal\; word-spacing: 0px\; font-size: medium\; "><span style="border-collapse: separate\; font-family: Helvetica\; font-variant: normal\; letter-spacing: normal\; line-height: normal\; text-indent: 0px\; text-transform: none\; white-space: normal\; word-spacing: 0px\; font-size: medium\; "><span style="border-collapse: separate\; font-family: Helvetica\; font-variant: normal\; letter-spacing: normal\; line-height: normal\; text-indent: 0px\; text-transform: none\; white-space: normal\; word-spacing: 0px\; font-size: medium\; "><span style="border-collapse: separate\; font-family: Helvetica\; font-variant: normal\; letter-spacing: normal\; line-height: normal\; text-indent: 0px\; text-transform: none\; white-space: normal\; word-spacing: 0px\; font-size: medium\; "><span style="border-collapse: separate\; font-family: Helvetica\; font-variant: normal\; letter-spacing: normal\; line-height: normal\; text-indent: 0px\; text-transform: none\; white-space: normal\; word-spacing: 0px\; font-size: medium\; "><span style="border-collapse: separate\; font-family: Helvetica\; font-variant: normal\; letter-spacing: normal\; line-height: normal\; text-indent: 0px\; text-transform: none\; white-space: normal\; word-spacing: 0px\; font-size: medium\; "><span style="border-collapse: separate\; font-family: Helvetica\; font-variant: normal\; letter-spacing: normal\; line-height: normal\; text-indent: 0px\; text-transform: none\; white-space: normal\; word-spacing: 0px\; font-size: medium\; "><span style="border-collapse: separate\; font-family: Helvetica\; font-variant: normal\; letter-spacing: normal\; line-height: normal\; text-indent: 0px\; text-transform: none\; white-space: normal\; word-spacing: 0px\; font-size: medium\; "><span style="border-collapse: separate\; font-family: Helvetica\; font-variant: normal\; letter-spacing: normal\; line-height: normal\; text-indent: 0px\; text-transform: none\; white-space: normal\; word-spacing: 0px\; font-size: medium\; "><span style="border-collapse: separate\; font-family: Helvetica\; font-variant: normal\; letter-spacing: normal\; line-height: normal\; text-indent: 0px\; text-transform: none\; white-space: normal\; word-spacing: 0px\; font-size: medium\; "><span style="border-collapse: separate\; font-family: Helvetica\; font-variant: normal\; letter-spacing: normal\; line-height: normal\; text-indent: 0px\; text-transform: none\; white-space: normal\; word-spacing: 0px\; font-size: medium\; "><span style="border-collapse: separate\; font-family: Helvetica\; font-variant: normal\; letter-spacing: normal\; line-height: normal\; text-indent: 0px\; text-transform: none\; white-space: normal\; word-spacing: 0px\; font-size: medium\; "><span style="border-collapse: separate\; font-family: Helvetica\; font-variant: normal\; letter-spacing: normal\; line-height: normal\; text-indent: 0px\; text-transform: none\; white-space: normal\; word-spacing: 0px\; font-size: medium\; "><span style="border-collapse: separate\; font-family: Helvetica\; font-variant: normal\; letter-spacing: normal\; line-height: normal\; text-indent: 0px\; text-transform: none\; white-space: normal\; word-spacing: 0px\; font-size: medium\; "><span style="border-collapse: separate\; font-family: Helvetica\; font-variant: normal\; letter-spacing: normal\; line-height: normal\; text-indent: 0px\; text-transform: none\; white-space: normal\; word-spacing: 0px\; font-size: medium\; "><span style="font-size: 11px\; text-align: left\; "><font><font size="3"><span style="font-size: 11px\; "><font><font><font size="3"><span style="font-size: 12px\; "><span style="font-size: 11px\; "><font><font><span style="font-family: Times\; ">Experience a fabulous day of music\, dance and family fun Saturday May 26<sup>th</sup>\, 11 a.m. to 5 p.m. at the 38th Annual Alexandra Festival in Crescent Beach. Explore the Family Fun Zones with your little ones\, check out the cultural fun zone and browse artisans and crafters booths for unique gifts.&nbsp\;<span>&nbsp\;</span>There&rsquo\;s non-stop entertainment on the outdoor stage\, and don&rsquo\;t worry about parking -&nbsp\;<span>&nbsp\;</span>take our free shuttle from the Crescent Beach Legion parking lot on 128<sup>th</sup>&nbsp\;beginning at 11 a.m.&nbsp\;<span>&nbsp\;</span>Come back in the evening for a fun musical evening in Alexandra Hall at 7 p.m. There&rsquo\;s something for everyone at this family event by the beach. Go to&nbsp\;<a href="http://www.alexhouse.net/" target="_blank">www.alexhouse.net</a>&nbsp\;or call&nbsp\;<a href="tel:604-535-0015" target="_blank" value="+16045350015">604-535-0015</a>&nbsp\;for more information.</span></font></font></span></span></font></font></font></span></font></font></span></span></span></span></span></span></span></span></span></span></span></span></span></span></span></span></span></span></span></span></span></span></span></span></span></span></span></span></span></span></span></span></span></span></span></span></p>\n									</div>\n								</div>\n							</div>\n						</div>\n					</div>\n				</div>\n			</blockquote>\n		</div>\n	</div>\n</blockquote>\n
LOCATION:Alexandra Neighbourhood House\, 2916 McBride Ave in the village of Crescent Beach
UID:e.749.2060
SEQUENCE:3
DTSTAMP:20260421T095607Z
URL:https://business.businessinsurrey.com/events/details/38th-annual-alexandra-festival-05-26-2012-2060
END:VEVENT

END:VCALENDAR
