BEGIN:VCALENDAR
VERSION:2.0
PRODID:-//ChamberMaster//Event Calendar 2.0//EN
METHOD:PUBLISH
X-PUBLISHED-TTL:P3D
REFRESH-INTERVAL:P3D
CALSCALE:GREGORIAN
BEGIN:VEVENT
DTSTART:20161003T170000Z
DTEND:20161006T220000Z
X-MICROSOFT-CDO-ALLDAYEVENT:FALSE
SUMMARY:2016 Stepping Into Nature Festival
DESCRIPTION:Give students the chance to learn about their environment in the great outdoors! The event features activities that are hands-on\, interactive and fits the BC Curriculum. Last year\, there was a waiting list of 400 students. Register today!
X-ALT-DESC;FMTTYPE=text/html:Give students the chance to learn about their environment in the great outdoors! The event features activities that are hands-on\, interactive and fits the BC Curriculum. Last year\, there was a waiting list of 400 students. Register today!
LOCATION:Delta Nature Reserve 10388 Nordel Court\, Delta\, BC V4G 1J7
UID:e.749.4899
SEQUENCE:3
DTSTAMP:20260424T024306Z
URL:https://business.businessinsurrey.com/events/details/2016-stepping-into-nature-festival-10-03-2016-4899
END:VEVENT

END:VCALENDAR
