BEGIN:VCALENDAR
VERSION:2.0
PRODID:-//ChamberMaster//Event Calendar 2.0//EN
METHOD:PUBLISH
X-PUBLISHED-TTL:P3D
REFRESH-INTERVAL:P3D
CALSCALE:GREGORIAN
BEGIN:VEVENT
DTSTART:20120603T143000Z
DTEND:20120603T200000Z
X-MICROSOFT-CDO-ALLDAYEVENT:FALSE
SUMMARY:11th Annual Run\, Walk & Roll for our Kids
DESCRIPTION:Join us in our mission to help children with special needs reach their potential by participating and collecting pledges for The Centre for Child Development.\n\n\n\nThis event has been designed to include participants of all ages\, abilities and fitness levels with a 2K walk/run/roll around the track or a 5K/10K run/walk around the paths of Bear Creek Park. There is live entertainment\, kid's activities and post race refreshments.
X-ALT-DESC;FMTTYPE=text/html:Join us in our mission to help&nbsp\;children with special needs reach their potential by participating and collecting pledges for The Centre for Child Development.<br />\n<br />\nThis event has been designed to include participants of all ages\, abilities and fitness levels with a 2K walk/run/roll around the track or a 5K/10K run/walk around the paths of Bear Creek Park. There is live entertainment\, kid&#39\;s activities and&nbsp\;post race refreshments.
LOCATION:Bear Creek Park Surrey\, BC
UID:e.749.2035
SEQUENCE:3
DTSTAMP:20260421T095045Z
URL:https://business.businessinsurrey.com/events/details/11th-annual-run-walk-roll-for-our-kids-06-03-2012-2035
END:VEVENT

END:VCALENDAR
