BEGIN:VCALENDAR
VERSION:2.0
PRODID:-//ChamberMaster//Event Calendar 2.0//EN
METHOD:PUBLISH
X-PUBLISHED-TTL:P3D
REFRESH-INTERVAL:P3D
CALSCALE:GREGORIAN
BEGIN:VEVENT
DTSTART;VALUE=DATE:20091103
DTEND;VALUE=DATE:20091104
TRANSP:TRANSPARENT
X-MICROSOFT-CDO-ALLDAYEVENT:TRUE
SUMMARY:09 Flyers-November
DESCRIPTION:
X-ALT-DESC;FMTTYPE=text/html:
LOCATION:
UID:e.749.1445
SEQUENCE:3
DTSTAMP:20260423T055027Z
URL:https://business.businessinsurrey.com/events/details/09-flyers-november-11-03-2009-1445
END:VEVENT

END:VCALENDAR
